BEGIN:VCALENDAR
VERSION:2.0
PRODID:-//Fast North Corp//Race Roster
CALSCALE:GREGORIAN
BEGIN:VEVENT
UID:882345_f6bb0a23-9468-4031-86f3-fb988f27b126_1777045624@raceroster.com
DTSTAMP:20260424T154705Z
SUMMARY:Sri Chinmoy Self-Transcendence 100 km\, 50 km & 100 km Teams Races
DTSTART;TZID=Pacific/Auckland:20261101T070000
DTEND;TZID=Pacific/Auckland:20261101T100000
URL;VALUE=URI:https://raceroster.com/events/2026/119241/sri-chinmoy-self-tr
 anscendence-100-km-50-km-and-100-km-teams-races
DESCRIPTION:See all event details at https://raceroster.com/events/2026/119
 241/sri-chinmoy-self-transcendence-100-km-50-km-and-100-km-teams-races
LOCATION:Hagley Park Tennis Courts Riccarton Avenue\, Christchurch Central 
 City\, Christchurch\, New Zealand
END:VEVENT
END:VCALENDAR
