BEGIN:VCALENDAR
VERSION:2.0
PRODID:-//Fast North Corp//Race Roster
CALSCALE:GREGORIAN
BEGIN:VEVENT
UID:884693_2d835bab-214b-43ca-ac64-9f1851b4122a_1777135740@raceroster.com
DTSTAMP:20260425T164900Z
SUMMARY:63rd Annual Fred Warren 5K Road Race
DTSTART;TZID=America/New_York:20260726T103000
DTEND;TZID=America/New_York:20260726T133000
URL;VALUE=URI:https://raceroster.com/events/2026/119247/63rd-annual-fred-wa
 rren-5k-road-race
DESCRIPTION:See all event details at https://raceroster.com/events/2026/119
 247/63rd-annual-fred-warren-5k-road-race
LOCATION:112 Industrial Drive\, Holden\, MA
END:VEVENT
END:VCALENDAR
