BEGIN:VCALENDAR
VERSION:2.0
PRODID:-//Fast North Corp//Race Roster
CALSCALE:GREGORIAN
BEGIN:VEVENT
UID:882437_ad423308-da34-40d9-86f4-7601f8528e3d_1776601268@raceroster.com
DTSTAMP:20260419T122108Z
SUMMARY:Hannibal Cannibal
DTSTART;TZID=America/Chicago:20260704T063000
DTEND;TZID=America/Chicago:20260704T093000
URL;VALUE=URI:https://raceroster.com/events/2026/119259/hannibal-cannibal
DESCRIPTION:See all event details at https://raceroster.com/events/2026/119
 259/hannibal-cannibal
LOCATION:Mark Twain Boyhood Home & Museum\, North Main Street\, Hannibal\, 
 MO
END:VEVENT
END:VCALENDAR
