BEGIN:VCALENDAR
VERSION:2.0
PRODID:-//Fast North Corp//Race Roster
CALSCALE:GREGORIAN
BEGIN:VEVENT
UID:883663_fca0156b-be95-430b-a06e-5ff0b9ad7f75_1776785937@raceroster.com
DTSTAMP:20260421T153857Z
SUMMARY:Felix Grundy 5K
DTSTART;TZID=America/Chicago:20260711T080000
DTEND;TZID=America/Chicago:20260711T110000
URL;VALUE=URI:https://raceroster.com/events/2026/119266/felix-grundy-5k
DESCRIPTION:See all event details at https://raceroster.com/events/2026/119
 266/felix-grundy-5k
LOCATION:1006 M Ave\, Grundy Center\, IA
END:VEVENT
END:VCALENDAR
