BEGIN:VCALENDAR
VERSION:2.0
PRODID:-//Fast North Corp//Race Roster
CALSCALE:GREGORIAN
BEGIN:VEVENT
UID:883369_918cb120-4b1f-4080-a7b2-9a7725436fe2_1776602524@raceroster.com
DTSTAMP:20260419T124204Z
SUMMARY:601 Day 5K/8K w/ JXN Run Club & Visit Jackson
DTSTART;TZID=America/Chicago:20260530T090000
DTEND;TZID=America/Chicago:20260530T120000
URL;VALUE=URI:https://raceroster.com/events/2026/119282/601-day-5k8k-w-jxn-
 run-club-and-visit-jackson
DESCRIPTION:See all event details at https://raceroster.com/events/2026/119
 282/601-day-5k8k-w-jxn-run-club-and-visit-jackson
LOCATION:800 Manship Street\, Jackson\, MS
END:VEVENT
END:VCALENDAR
