BEGIN:VCALENDAR
VERSION:2.0
PRODID:-//Fast North Corp//Race Roster
CALSCALE:GREGORIAN
BEGIN:VEVENT
UID:883630_38dbc70b-8854-41b3-96fc-6cb1547f98f9_1776604375@raceroster.com
DTSTAMP:20260419T131255Z
SUMMARY:Turkey Trot LA 2026
DTSTART;TZID=America/Los_Angeles:20261126T090000
DTEND;TZID=America/Los_Angeles:20261126T120000
URL;VALUE=URI:https://raceroster.com/events/2026/119288/turkey-trot-la-2026
DESCRIPTION:See all event details at https://raceroster.com/events/2026/119
 288/turkey-trot-la-2026
LOCATION:Los Angeles City Hall\, 200 N Spring St\, Los Angeles\, CA 90012\,
  USA
END:VEVENT
END:VCALENDAR
