BEGIN:VCALENDAR
VERSION:2.0
PRODID:-//Fast North Corp//Race Roster
CALSCALE:GREGORIAN
BEGIN:VEVENT
UID:884159_a63df9fa-838d-419d-b14c-d04cd7cbac22_1776788864@raceroster.com
DTSTAMP:20260421T162744Z
SUMMARY:Introduction to Triathlon for Schools Clinic: Saturday May 9\, 2020
 6
DTSTART;TZID=America/Halifax:20260509T103000
DTEND;TZID=America/Halifax:20260509T133000
URL;VALUE=URI:https://raceroster.com/events/2026/119351/introduction-to-tri
 athlon-for-schools-clinic-saturday-may-9-20206
DESCRIPTION:See all event details at https://raceroster.com/events/2026/119
 351/introduction-to-triathlon-for-schools-clinic-saturday-may-9-20206
LOCATION:Credit Union Place\, Notre Dame Street\, Summerside\, PE\, Canada
END:VEVENT
END:VCALENDAR
