BEGIN:VCALENDAR
VERSION:2.0
PRODID:-//Fast North Corp//Race Roster
CALSCALE:GREGORIAN
BEGIN:VEVENT
UID:883313_ec045a87-b7c1-40a4-9167-3d8cdfc665fe_1776772702@raceroster.com
DTSTAMP:20260421T115822Z
SUMMARY:Hinton's Run in the Rockies
DTSTART;TZID=America/Edmonton:20260919T100000
DTEND;TZID=America/Edmonton:20260919T130000
URL;VALUE=URI:https://raceroster.com/events/2026/119359/hintons-run-in-the-
 rockies
DESCRIPTION:Event schedule\n\nSeptember 19 10:00 AM MDT - Half Marathon\nSe
 ptember 19 11:00 AM MDT - 10k\nSeptember 19 11:30 AM MDT - 5k\nSeptember 1
 9 12:45 PM MDT - Kids Fun Run\nSeptember 19 1:00 PM MDT - Awards Ceremony\
 nSeptember 19 1:30 PM MDT - Draw Prizes\nSeptember 19 2:00 PM MDT - Half M
 arathon Cut-Off Time\n\nSee all event details at https://raceroster.com/ev
 ents/2026/119359/hintons-run-in-the-rockies
LOCATION:William A. Switzer Provincial Park\, Alberta 40\, Hinton\, AB\, Ca
 nada
END:VEVENT
END:VCALENDAR
