BEGIN:VCALENDAR
VERSION:2.0
PRODID:-//Fast North Corp//Race Roster
CALSCALE:GREGORIAN
BEGIN:VEVENT
UID:883294_b519caa3-9609-465a-b8ea-e221acb6ed14_1777114837@raceroster.com
DTSTAMP:20260425T110037Z
SUMMARY:Camp CARE Annual Memorial 5K
DTSTART;TZID=America/New_York:20261003T170000
DTEND;TZID=America/New_York:20261003T200000
URL;VALUE=URI:https://raceroster.com/events/2026/119370/camp-care-annual-me
 morial-5k
DESCRIPTION:See all event details at https://raceroster.com/events/2026/119
 370/camp-care-annual-memorial-5k
LOCATION:4001 Stough Rd\, Concord\, NC 28027\, United States
END:VEVENT
END:VCALENDAR
