BEGIN:VCALENDAR
VERSION:2.0
PRODID:-//Fast North Corp//Race Roster
CALSCALE:GREGORIAN
BEGIN:VEVENT
UID:884883_df649f2d-ee84-4302-b0a8-7b77e13c8ab8_1777113982@raceroster.com
DTSTAMP:20260425T104622Z
SUMMARY:Cavendish Race Weekend
DTSTART;TZID=America/Halifax:20260620T083000
DTEND;TZID=America/Halifax:20260620T113000
URL;VALUE=URI:https://raceroster.com/events/2026/119373/cavendish-race-week
 end
DESCRIPTION:See all event details at https://raceroster.com/events/2026/119
 373/cavendish-race-weekend
LOCATION:Avonlea Village\, Prince Edward Island 6\, New Glasgow\, PE\, Cana
 da
END:VEVENT
BEGIN:VEVENT
UID:884884_df649f2d-ee84-4302-b0a8-7b77e13c8ab8_1777113982@raceroster.com
DTSTAMP:20260425T104622Z
SUMMARY:Cavendish Race Weekend
DTSTART;TZID=America/Halifax:20260621T090000
DTEND;TZID=America/Halifax:20260621T120000
URL;VALUE=URI:https://raceroster.com/events/2026/119373/cavendish-race-week
 end
DESCRIPTION:See all event details at https://raceroster.com/events/2026/119
 373/cavendish-race-weekend
LOCATION:Avonlea Village\, Prince Edward Island 6\, New Glasgow\, PE\, Cana
 da
END:VEVENT
END:VCALENDAR
