BEGIN:VCALENDAR
VERSION:2.0
PRODID:-//Fast North Corp//Race Roster
CALSCALE:GREGORIAN
BEGIN:VEVENT
UID:884083_4478a87e-5cb1-490b-a0c4-ed005e034258_1776692841@raceroster.com
DTSTAMP:20260420T134721Z
SUMMARY:Water Drop 5K Run/Walk Water Droplet Kids Run
DTSTART;TZID=America/Indiana/Indianapolis:20260711T080000
DTEND;TZID=America/Indiana/Indianapolis:20260711T110000
URL;VALUE=URI:https://raceroster.com/events/2026/119378/water-drop-5k-runwa
 lk-water-droplet-kids-run
DESCRIPTION:See all event details at https://raceroster.com/events/2026/119
 378/water-drop-5k-runwalk-water-droplet-kids-run
LOCATION:200 N 2nd St\, Lafayette\, IN 47901
END:VEVENT
END:VCALENDAR
