BEGIN:VCALENDAR
VERSION:2.0
PRODID:-//Fast North Corp//Race Roster
CALSCALE:GREGORIAN
BEGIN:VEVENT
UID:884089_1a985987-a737-4507-a081-11f28910a257_1776692758@raceroster.com
DTSTAMP:20260420T134558Z
SUMMARY:Kyrene Rise 5K
DTSTART;TZID=America/Phoenix:20260927T073000
DTEND;TZID=America/Phoenix:20260927T103000
URL;VALUE=URI:https://raceroster.com/events/2026/119390/kyrene-rise-5k
DESCRIPTION:Event schedule\n\nSeptember 26 6:30 AM - Race Day Registration 
 and Packet Pickup Opens\nSeptember 26 7:25 AM - Race Day Registration and 
 Packet Pickup Closes\nSeptember 26 2:00 PM - Packet Pick-Up at TBD from 2-
 5pm\nSeptember 27 7:30 AM - 5K Run/Walk Begins\nSeptember 27 7:40 AM - 1M 
 Run/Walk Begins\nSeptember 27 8:30 AM - Mascot Dash\nSeptember 27 8:45 AM 
 - Awards Ceremony Begins (approx.)\n\nSee all event details at https://rac
 eroster.com/events/2026/119390/kyrene-rise-5k
LOCATION:101 West Baseline Road\, Tempe\, AZ
END:VEVENT
END:VCALENDAR
