BEGIN:VCALENDAR
VERSION:2.0
PRODID:-//Fast North Corp//Race Roster
CALSCALE:GREGORIAN
BEGIN:VEVENT
UID:885405_b2f626b0-0ee7-4cdd-ace2-b84509388568_1776940589@raceroster.com
DTSTAMP:20260423T103629Z
SUMMARY:Running with the Champions
DTSTART;TZID=America/Port_of_Spain:20260606T063000
DTEND;TZID=America/Port_of_Spain:20260606T093000
URL;VALUE=URI:https://raceroster.com/events/2026/119406/running-with-the-ch
 ampions
DESCRIPTION:See all event details at https://raceroster.com/events/2026/119
 406/running-with-the-champions
LOCATION:Lady Chancellor Road\, Port of Spain\, Trinidad and Tobago
END:VEVENT
END:VCALENDAR
