BEGIN:VCALENDAR
VERSION:2.0
PRODID:-//Fast North Corp//Race Roster
CALSCALE:GREGORIAN
BEGIN:VEVENT
UID:883628_17568e4c-931c-4633-84ca-2e94b1b17520_1776602174@raceroster.com
DTSTAMP:20260419T123614Z
SUMMARY:Century Farm Haunted Wine Run 5k
DTSTART;TZID=America/Chicago:20261017T000000
DTEND;TZID=America/Chicago:20261017T030000
URL;VALUE=URI:https://raceroster.com/events/2026/119412/century-farm-haunte
 d-wine-run-5k
DESCRIPTION:See all event details at https://raceroster.com/events/2026/119
 412/century-farm-haunted-wine-run-5k
LOCATION:Century Farm Winery\, 1548 Lower Brownsville Rd\, Jackson\, TN 383
 01\, U.S.
END:VEVENT
END:VCALENDAR
