BEGIN:VCALENDAR
VERSION:2.0
PRODID:-//Fast North Corp//Race Roster
CALSCALE:GREGORIAN
BEGIN:VEVENT
UID:883655_ad421424-a13f-462a-ab12-d8cd81ad3211_1776601266@raceroster.com
DTSTAMP:20260419T122106Z
SUMMARY:Donor Dash 10K - 5K - 1K Family Fun Run
DTSTART;TZID=America/Phoenix:20261017T080000
DTEND;TZID=America/Phoenix:20261017T110000
URL;VALUE=URI:https://raceroster.com/events/2026/119413/donor-dash-10k-5k-1
 k-family-fun-run
DESCRIPTION:Event schedule\n\nOctober 16 3:00 PM - Packet Pick-Up at Sole S
 ports Tempe from 3-6pm\nOctober 17 7:00 AM - Race Day Packet Pick-up and R
 egistration Opens\nOctober 17 8:00 AM - 10K Run/Walk Begins\nOctober 17 8:
 10 AM - 5K Run/Walk Begins\nOctober 17 8:15 AM - Race day packet pickup an
 d registration closes\nOctober 17 8:20 AM - 1K Run/Walk Begins\nOctober 17
  9:00 AM - Award Ceremony Begins (approx)\n\nSee all event details at http
 s://raceroster.com/events/2026/119413/donor-dash-10k-5k-1k-family-fun-run
LOCATION:101 West Baseline Road\, Tempe\, AZ
END:VEVENT
END:VCALENDAR
