BEGIN:VCALENDAR
VERSION:2.0
PRODID:-//Fast North Corp//Race Roster
CALSCALE:GREGORIAN
BEGIN:VEVENT
UID:883745_e142797e-f33c-46d0-b7b6-42cc2b7f806c_1776601865@raceroster.com
DTSTAMP:20260419T123105Z
SUMMARY:Stokelan Estate Haunted Wine Run 5k
DTSTART;TZID=America/New_York:20261019T000000
DTEND;TZID=America/New_York:20261019T030000
URL;VALUE=URI:https://raceroster.com/events/2026/119427/stokelan-estate-hau
 nted-wine-run-5k
DESCRIPTION:See all event details at https://raceroster.com/events/2026/119
 427/stokelan-estate-haunted-wine-run-5k
LOCATION:Stokelan Estate Winery\, 52 Eayrestown Rd\, Medford\, NJ 08055\, U
 .S.
END:VEVENT
END:VCALENDAR
