BEGIN:VCALENDAR
VERSION:2.0
PRODID:-//Fast North Corp//Race Roster
CALSCALE:GREGORIAN
BEGIN:VEVENT
UID:883797_f43e2048-dfce-4477-8b00-97f10cccdc18_1776602502@raceroster.com
DTSTAMP:20260419T124142Z
SUMMARY:2026 AACR Runners for Research 5K Run/Walk
DTSTART;TZID=America/Los_Angeles:20260418T073000
DTEND;TZID=America/Los_Angeles:20260418T103000
URL;VALUE=URI:https://raceroster.com/events/2026/119434/2026-aacr-runners-f
 or-research-5k-runwalk
DESCRIPTION:See all event details at https://raceroster.com/events/2026/119
 434/2026-aacr-runners-for-research-5k-runwalk
LOCATION:Marriott Marquis San Diego Marina\, West Harbor Drive\, Downtown S
 an Diego\, San Diego\, California
END:VEVENT
END:VCALENDAR
