BEGIN:VCALENDAR
VERSION:2.0
PRODID:-//Fast North Corp//Race Roster
CALSCALE:GREGORIAN
BEGIN:VEVENT
UID:883864_5b1ca3a0-762a-4943-a37b-5e84a1fc185a_1776692182@raceroster.com
DTSTAMP:20260420T133622Z
SUMMARY:OdesSEA Open Water Swim Race#2
DTSTART;TZID=America/Grenada:20261122T070000
DTEND;TZID=America/Grenada:20261122T100000
URL;VALUE=URI:https://raceroster.com/events/2026/119439/odessea-open-water-
 swim-race-number-2
DESCRIPTION:Event schedule\n\nNovember 22 8:00 AM AST - 500m Sprint\nNovemb
 er 22 8:45 AM AST - 3\,000m &amp\; 5\,000m\nNovember 22 11:00 AM AST - 1\,
 000m\nNovember 22 11:45 AM AST - Awards\n\nSee all event details at https:
 //raceroster.com/events/2026/119439/odessea-open-water-swim-race-number-2
LOCATION:Grand Anse Craft and Spice Market\, The Lime\, Grenada
END:VEVENT
END:VCALENDAR
