BEGIN:VCALENDAR
VERSION:2.0
PRODID:-//Fast North Corp//Race Roster
CALSCALE:GREGORIAN
BEGIN:VEVENT
UID:884166_c520220a-21dc-4056-aaa9-04450a37da65_1776692183@raceroster.com
DTSTAMP:20260420T133623Z
SUMMARY:2026 GRAN FONDO CRK
DTSTART;TZID=Asia/Manila:20260712T050000
DTEND;TZID=Asia/Manila:20260712T080000
URL;VALUE=URI:https://raceroster.com/events/2026/119443/2026-gran-fondo-crk
DESCRIPTION:See all event details at https://raceroster.com/events/2026/119
 443/2026-gran-fondo-crk
LOCATION:Filinvest Mimosa Plus Events Grounds\, Clark Avenue\, Angeles\, Pa
 mpanga\, Philippines
END:VEVENT
END:VCALENDAR
