BEGIN:VCALENDAR
VERSION:2.0
PRODID:-//Fast North Corp//Race Roster
CALSCALE:GREGORIAN
BEGIN:VEVENT
UID:883921_44bcbf9d-ae62-4751-9009-a60a54ff7960_1776602173@raceroster.com
DTSTAMP:20260419T123613Z
SUMMARY:Northstowe Half Marathon & Tom's Trust 5K
DTSTART;TZID=Europe/London:20260419T093000
DTEND;TZID=Europe/London:20260419T123000
URL;VALUE=URI:https://raceroster.com/events/2026/119447/northstowe-half-mar
 athon-and-toms-trust-5k
DESCRIPTION:See all event details at https://raceroster.com/events/2026/119
 447/northstowe-half-marathon-and-toms-trust-5k
LOCATION:Northstowe Secondary College\, Northstowe Learning Community\, Sti
 rling Road\, Northstowe\, Cambridge\, UK
END:VEVENT
END:VCALENDAR
