BEGIN:VCALENDAR
VERSION:2.0
PRODID:-//Fast North Corp//Race Roster
CALSCALE:GREGORIAN
BEGIN:VEVENT
UID:884030_fc3a3c40-df8c-4f50-b9c7-8608be604f91_1776772788@raceroster.com
DTSTAMP:20260421T115948Z
SUMMARY:9th Annual Courtney Roderick Run For Recovery
DTSTART;TZID=America/New_York:20260725T080000
DTEND;TZID=America/New_York:20260725T110000
URL;VALUE=URI:https://raceroster.com/events/2026/119450/9th-annual-courtney
 -roderick-run-for-recovery
DESCRIPTION:See all event details at https://raceroster.com/events/2026/119
 450/9th-annual-courtney-roderick-run-for-recovery
LOCATION:Grinnell's Beach\, Main Road\, Tiverton\, RI
END:VEVENT
END:VCALENDAR
