BEGIN:VCALENDAR
VERSION:2.0
PRODID:-//Fast North Corp//Race Roster
CALSCALE:GREGORIAN
BEGIN:VEVENT
UID:884141_7c505ed5-90f1-4b6d-9e76-f36ea3bbec54_1776692768@raceroster.com
DTSTAMP:20260420T134608Z
SUMMARY:2026 SoJo Earth Day
DTSTART;TZID=America/Boise:20260418T100000
DTEND;TZID=America/Boise:20260418T130000
URL;VALUE=URI:https://raceroster.com/events/2026/119477/2026-sojo-earth-day
DESCRIPTION:See all event details at https://raceroster.com/events/2026/119
 477/2026-sojo-earth-day
LOCATION:1250 Holt Farm Ln\, South Jordan\, UT 84095
END:VEVENT
END:VCALENDAR
