BEGIN:VCALENDAR
VERSION:2.0
PRODID:-//Fast North Corp//Race Roster
CALSCALE:GREGORIAN
BEGIN:VEVENT
UID:884185_80483a24-227e-45f4-a0c5-ecb3cf544b51_1776786480@raceroster.com
DTSTAMP:20260421T154800Z
SUMMARY:JTC Running Scholarship
DTSTART;TZID=America/New_York:20260528T115900
DTEND;TZID=America/New_York:20260528T145900
URL;VALUE=URI:https://raceroster.com/events/2026/119485/jtc-running-scholar
 ship
DESCRIPTION:See all event details at https://raceroster.com/events/2026/119
 485/jtc-running-scholarship
LOCATION:1st Place Sports Running: Baymeadows Road\, Baymeadows Road\, Jack
 sonville\, FL\, USA
END:VEVENT
END:VCALENDAR
