BEGIN:VCALENDAR
VERSION:2.0
PRODID:-//Fast North Corp//Race Roster
CALSCALE:GREGORIAN
BEGIN:VEVENT
UID:884241_8ed34b7b-118a-4d83-9b7a-53af67be5f0b_1776785932@raceroster.com
DTSTAMP:20260421T153852Z
SUMMARY:Spokane River Run
DTSTART;TZID=America/Los_Angeles:20260419T060000
DTEND;TZID=America/Los_Angeles:20260419T090000
URL;VALUE=URI:https://raceroster.com/events/2026/119492/spokane-river-run
DESCRIPTION:See all event details at https://raceroster.com/events/2026/119
 492/spokane-river-run
LOCATION:Riverside State Park\, Spokane\, WA
END:VEVENT
END:VCALENDAR
