BEGIN:VCALENDAR
VERSION:2.0
PRODID:-//Fast North Corp//Race Roster
CALSCALE:GREGORIAN
BEGIN:VEVENT
UID:884398_ec6fae30-f953-4448-9c23-b6edc3673df7_1776945267@raceroster.com
DTSTAMP:20260423T115427Z
SUMMARY:Eltham Fun Run and Walk 2026
DTSTART;TZID=Australia/Melbourne:20261115T080000
DTEND;TZID=Australia/Melbourne:20261115T110000
URL;VALUE=URI:https://raceroster.com/events/2026/119495/eltham-fun-run-and-
 walk-2026
DESCRIPTION:See all event details at https://raceroster.com/events/2026/119
 495/eltham-fun-run-and-walk-2026
LOCATION:Eltham Leisure Centre\, Brougham Street\, Eltham VIC\, Australia
END:VEVENT
END:VCALENDAR
