BEGIN:VCALENDAR
VERSION:2.0
PRODID:-//Fast North Corp//Race Roster
CALSCALE:GREGORIAN
BEGIN:VEVENT
UID:884737_a584ca36-f575-48f5-a96f-4be392965f86_1777029087@raceroster.com
DTSTAMP:20260424T111127Z
SUMMARY:Canton Juneteenth 5K Run/Walk
DTSTART;TZID=America/Chicago:20260620T070000
DTEND;TZID=America/Chicago:20260620T100000
URL;VALUE=URI:https://raceroster.com/events/2026/119501/canton-juneteenth-5
 k-runwalk
DESCRIPTION:See all event details at https://raceroster.com/events/2026/119
 501/canton-juneteenth-5k-runwalk
LOCATION:North Canal Street\, Canton\, MS
END:VEVENT
END:VCALENDAR
