BEGIN:VCALENDAR
VERSION:2.0
PRODID:-//Fast North Corp//Race Roster
CALSCALE:GREGORIAN
BEGIN:VEVENT
UID:884823_720a2472-9d73-4dfc-936c-f4c276957857_1776832561@raceroster.com
DTSTAMP:20260422T043601Z
SUMMARY:PRESENTED BY CHARLOTTE RUNNING COMPANY
DTSTART;TZID=America/New_York:20260503T183000
DTEND;TZID=America/New_York:20260503T213000
URL;VALUE=URI:https://raceroster.com/events/2026/119523/presented-by-charlo
 tte-running-company
DESCRIPTION:See all event details at https://raceroster.com/events/2026/119
 523/presented-by-charlotte-running-company
LOCATION:NASCAR Hall of Fame\, East Martin Luther King Junior Boulevard\, C
 harlotte\, NC
END:VEVENT
END:VCALENDAR
