BEGIN:VCALENDAR
VERSION:2.0
PRODID:-//Fast North Corp//Race Roster
CALSCALE:GREGORIAN
BEGIN:VEVENT
UID:889172_ae5f4043-62c7-4ded-81a5-2b4fba2a3b50_1777134092@raceroster.com
DTSTAMP:20260425T162132Z
SUMMARY:QC Java Jog
DTSTART;TZID=America/Chicago:20260920T083000
DTEND;TZID=America/Chicago:20260920T113000
URL;VALUE=URI:https://raceroster.com/events/2026/119526/qc-java-jog
DESCRIPTION:See all event details at https://raceroster.com/events/2026/119
 526/qc-java-jog
LOCATION:Case Creek Trails \, Tails & Obstacles OCR\, 120th Ave\, Coal Vall
 ey\, IL
END:VEVENT
END:VCALENDAR
