BEGIN:VCALENDAR
VERSION:2.0
PRODID:-//Fast North Corp//Race Roster
CALSCALE:GREGORIAN
BEGIN:VEVENT
UID:885454_8635cd8c-7517-4ee4-a39e-55f2a19bc7c4_1776863901@raceroster.com
DTSTAMP:20260422T131821Z
SUMMARY:Mission Mt Somers 2026
DTSTART;TZID=Pacific/Auckland:20261031T070000
DTEND;TZID=Pacific/Auckland:20261031T100000
URL;VALUE=URI:https://raceroster.com/events/2026/119575/mission-mt-somers-2
 026
DESCRIPTION:See all event details at https://raceroster.com/events/2026/119
 575/mission-mt-somers-2026
LOCATION:Staveley\, New Zealand
END:VEVENT
END:VCALENDAR
