BEGIN:VCALENDAR
VERSION:2.0
PRODID:-//Fast North Corp//Race Roster
CALSCALE:GREGORIAN
BEGIN:VEVENT
UID:866612_15b51a57-4bd1-4ff5-abd4-b4897b27dcae_1776604375@raceroster.com
DTSTAMP:20260419T131255Z
SUMMARY:The Great Neighbourhood Challenge
DTSTART;TZID=America/Regina:20271231T120000
DTEND;TZID=America/Regina:20271231T150000
URL;VALUE=URI:https://raceroster.com/events/2027/116568/the-great-neighbour
 hood-challenge
DESCRIPTION:See all event details at https://raceroster.com/events/2027/116
 568/the-great-neighbourhood-challenge
LOCATION:Canada
END:VEVENT
END:VCALENDAR
