BEGIN:VCALENDAR
VERSION:2.0
PRODID:-//Fast North Corp//Race Roster
CALSCALE:GREGORIAN
BEGIN:VEVENT
UID:883256_bad4db16-4847-491d-a897-ec93d891b5f8_1776892114@raceroster.com
DTSTAMP:20260422T210834Z
SUMMARY:LTC: Run. Connect. Give Back.
DTSTART;TZID=America/Chicago:20270101T120000
DTEND;TZID=America/Chicago:20270101T150000
URL;VALUE=URI:https://raceroster.com/events/2027/117403/ltc-run-connect-giv
 e-back
DESCRIPTION:See all event details at https://raceroster.com/events/2027/117
 403/ltc-run-connect-give-back
LOCATION:3100 N 92nd St\, Lincoln\, NE 68507\, United States
END:VEVENT
END:VCALENDAR
