BEGIN:VCALENDAR
VERSION:2.0
PRODID:-//Fast North Corp//Race Roster
CALSCALE:GREGORIAN
BEGIN:VEVENT
UID:882178_1ffbec68-a5cf-450a-993c-21daf08679ef_1776601267@raceroster.com
DTSTAMP:20260419T122107Z
SUMMARY:Geelong Half Marathon
DTSTART;TZID=Australia/Melbourne:20270404T073000
DTEND;TZID=Australia/Melbourne:20270404T103000
URL;VALUE=URI:https://raceroster.com/events/2027/118883/geelong-half-marath
 on
DESCRIPTION:See all event details at https://raceroster.com/events/2027/118
 883/geelong-half-marathon
LOCATION:162 Barrabool Road\, Belmont VIC\, Australia
END:VEVENT
BEGIN:VEVENT
UID:882179_1ffbec68-a5cf-450a-993c-21daf08679ef_1776601267@raceroster.com
DTSTAMP:20260419T122107Z
SUMMARY:Geelong Half Marathon
DTSTART;TZID=Australia/Melbourne:20270404T080000
DTEND;TZID=Australia/Melbourne:20270404T110000
URL;VALUE=URI:https://raceroster.com/events/2027/118883/geelong-half-marath
 on
DESCRIPTION:See all event details at https://raceroster.com/events/2027/118
 883/geelong-half-marathon
LOCATION:162 Barrabool Road\, Belmont VIC\, Australia
END:VEVENT
END:VCALENDAR
