BEGIN:VCALENDAR
VERSION:2.0
PRODID:-//Fast North Corp//Race Roster
CALSCALE:GREGORIAN
BEGIN:VEVENT
UID:885471_c692bf83-ee67-4cfe-b7df-3e7a46dc5485_1776952420@raceroster.com
DTSTAMP:20260423T135340Z
SUMMARY:Hut 2 Hut Trail Festival 2027
DTSTART;TZID=Australia/Melbourne:20270219T053000
DTEND;TZID=Australia/Melbourne:20270219T083000
URL;VALUE=URI:https://raceroster.com/events/2027/119227/hut-2-hut-trail-fes
 tival-2027
DESCRIPTION:See all event details at https://raceroster.com/events/2027/119
 227/hut-2-hut-trail-festival-2027
LOCATION:Mount Buller Alpine Village\, Mount Buller VIC\, Australia
END:VEVENT
END:VCALENDAR
