BEGIN:VCALENDAR
VERSION:2.0
PRODID:-//Fast North Corp//Race Roster
CALSCALE:GREGORIAN
BEGIN:VEVENT
UID:883603_312da7f4-d2d6-41a5-ae03-40e18d292df7_1776601823@raceroster.com
DTSTAMP:20260419T123023Z
SUMMARY:Diablo Trails Challenge 2027
DTSTART;TZID=America/Los_Angeles:20270403T063000
DTEND;TZID=America/Los_Angeles:20270403T093000
URL;VALUE=URI:https://raceroster.com/events/2027/119410/diablo-trails-chall
 enge-2027
DESCRIPTION:Event schedule\n\nApril 3 6:30 AM PDT - 50K RACE START\nApril 3
  8:30 AM PDT - HALF MARATHON RACE START\nApril 3 9:00 AM PDT - 10K RACE ST
 ART\nApril 3 9:30 AM PDT - 5K RACE START\n\nSee all event details at https
 ://raceroster.com/events/2027/119410/diablo-trails-challenge-2027
LOCATION:1700 Castle Rock Road\, Walnut Creek\, CA\, United States
END:VEVENT
END:VCALENDAR
