BEGIN:VCALENDAR
VERSION:2.0
PRODID:-//Fast North Corp//Race Roster
CALSCALE:GREGORIAN
BEGIN:VEVENT
UID:885344_dd5ebc8d-0509-47e2-8f12-288bb81d4831_1776899268@raceroster.com
DTSTAMP:20260422T230749Z
SUMMARY:The Cancer Kickers Big Buffalo 50
DTSTART;TZID=America/Chicago:20270403T060000
DTEND;TZID=America/Chicago:20270403T090000
URL;VALUE=URI:https://raceroster.com/events/2027/119562/the-cancer-kickers-
 big-buffalo-50
DESCRIPTION:See all event details at https://raceroster.com/events/2027/119
 562/the-cancer-kickers-big-buffalo-50
LOCATION:Shelby Farms Park\, Great View Drive North\, Memphis\, TN\, USA
END:VEVENT
END:VCALENDAR
