BEGIN:VCALENDAR
VERSION:2.0
PRODID:-//Fast North Corp//Race Roster
CALSCALE:GREGORIAN
BEGIN:VEVENT
UID:846389_bfd01a30-3109-4c2b-ae88-20a55a5ff5a0_1777142353@raceroster.com
DTSTAMP:20260425T183913Z
SUMMARY:Bays Cycle Challenge - date to be advised
DTSTART;TZID=Pacific/Auckland:20270201T090000
DTEND;TZID=Pacific/Auckland:20270201T120000
URL;VALUE=URI:https://raceroster.com/events/2027/62423/bays-cycle-challenge
 -date-to-be-advised
DESCRIPTION:Event schedule\n\nMay 6 7:50 AM GMT+12 - Bays Cycle Challenge R
 ace Brief\nMay 6 8:00 AM GMT+12 - Bays Cycle Challenge Race Start\nMay 6 1
 2:30 PM GMT+12 - Prize Giving - Famous Grouse Hotel - Approximately\nMay 2
 0 6:30 AM GMT+12 - Race Pack Pick Up - McCormacks Bay Reserve\n\nSee all e
 vent details at https://raceroster.com/events/2027/62423/bays-cycle-challe
 nge-date-to-be-advised
LOCATION:The Famous Grouse Hotel Gerald Street\, Halswell\, Lincoln\, New Z
 ealand
END:VEVENT
END:VCALENDAR
